BEGIN:VCALENDAR
VERSION:2.0
PRODID:-//ciseventsgroup.com
CALSCALE:GREGORIAN
BEGIN:VEVENT
UID:20260421T164332Z@ciseventsgroup.com
SUMMARY:Міжнародний Форум «Навколо ЦОД.	Навколо Хмари. Навколо IoT. Навколо IP.	Навколо Безпеки. ProAV» (BIT-2019) у Кривому	Розі
DESCRIPTION:«Навколо ЦОД. Навколо Хмари. Навколо	IoT. Навколо IP. Навколо Безпеки. ProAV» (або	BIT-2019) – це подія №1 на українському	ринку високих технологій та	автоматизації. Захід охоплює всі	питання, пов'язані зі хмарними	обчисленнями, центрами обробки даних,	сучасними комунікаційними послугами,	інтернетом речей, AV-рішеннями та	інформаційною безпекою (рішення,	послуги, продукти, технології та	експертиза). Очікувана аудиторія – 70+	людей!
LOCATION:PARK HOUSE Hotel, Україна, Кривий Ріг, вул.	Дишинського,11
DTSTART;TZID=Europe/Kiev:20191203T090000
DTEND;TZID=Europe/Kiev:20191203T180000
DTSTAMP:20260421T164332Z
END:VEVENT
END:VCALENDAR